BEGIN:VCALENDAR
VERSION:2.0
PRODID:-//ff-Karriereberatung - ECPv6.0.0//NONSGML v1.0//EN
CALSCALE:GREGORIAN
METHOD:PUBLISH
X-ORIGINAL-URL:https://dev.ff-karriereberatung.de
X-WR-CALDESC:Veranstaltungen für ff-Karriereberatung
REFRESH-INTERVAL;VALUE=DURATION:PT1H
X-Robots-Tag:noindex
X-PUBLISHED-TTL:PT1H
BEGIN:VTIMEZONE
TZID:UTC
BEGIN:STANDARD
TZOFFSETFROM:+0000
TZOFFSETTO:+0000
TZNAME:UTC
DTSTART:20210101T000000
END:STANDARD
END:VTIMEZONE
BEGIN:VEVENT
DTSTART;TZID=UTC:20210724T100000
DTEND;TZID=UTC:20210724T140000
DTSTAMP:20260424T033212
CREATED:20210607T063039Z
LAST-MODIFIED:20210711T120935Z
UID:489-1627120800-1627135200@dev.ff-karriereberatung.de
SUMMARY:Online-Seminar: Aussagekräftige Bewerbungsunterlagen
DESCRIPTION:Wie Sie Ihre Bewerbungsunterlagen positionsgerecht und aussagefähig formulieren\, erfahren Sie in unserem Webinar „Aussagekräftige Bewerbungsunterlagen“.\nGerade Nicht-Idealkandidaten und Quereinsteiger haben es schwer ins Vorstellungsgespräch zu kommen.\nSichern Sie sich wertvolle Tipps zur Gestaltung Ihres Bewerbungsschreibens und Ihres Lebenslaufs\, um schneller und einfacher ins Vorstellungsgespräch zu kommen. \nBewerbungsschreiben \n\nFormate & Besonderheiten von Bewerbungsschreiben\nAufbau der Bewerbungsschreiben\nInhalte der Bewerbungsschreiben\nQualifikation & Wechselmotivation\nEinwandvorwegnahmen\n\nLebenslauf \n\nFormatierung des Lebenslaufs\nInhalte des Lebenslaufs\nLücken im Lebenslauf kaschieren\nLebenslauf begradigen\nQualifikation auf den Punkt bringen\n\nArbeitszeugnisse \n\nWorauf achtet ein Personaler bei Zeugnissen\nAuswahl relevanter Zeugnisse\n\nWeiterbildungsnachweise \n\nRichtige Auswahl der Nachweise\nDarstellung im Lebenslauf\n\nArbeitsproben \n\nEinsatz\nInhalt\n\nTeilnehmerzahl: Maximal 8 Teilnehmer \nZielgruppe: Fachkräfte\, Führungskräfte\, Experten\, Wiedereinsteiger\, Berufsanfänger\, Quereinsteiger \nVorbereitung: Lebenslauf\, eigene Fragen\, Schreibzeug \nVorkenntnisse: Keine notwendig
URL:https://dev.ff-karriereberatung.de/event/online-seminar-aussagekraeftige-bewerbungsunterlagen/
LOCATION:Online
ORGANIZER;CN="Kay%20Br%C3%B6der":MAILTO:seminare@ff-Karriereberatung.de
END:VEVENT
END:VCALENDAR