BEGIN:VCALENDAR
VERSION:2.0
PRODID:-//ff-Karriereberatung - ECPv6.0.0//NONSGML v1.0//EN
CALSCALE:GREGORIAN
METHOD:PUBLISH
X-WR-CALNAME:ff-Karriereberatung
X-ORIGINAL-URL:https://dev.ff-karriereberatung.de
X-WR-CALDESC:Veranstaltungen für ff-Karriereberatung
REFRESH-INTERVAL;VALUE=DURATION:PT1H
X-Robots-Tag:noindex
X-PUBLISHED-TTL:PT1H
BEGIN:VTIMEZONE
TZID:UTC
BEGIN:STANDARD
TZOFFSETFROM:+0000
TZOFFSETTO:+0000
TZNAME:UTC
DTSTART:20210101T000000
END:STANDARD
END:VTIMEZONE
BEGIN:VEVENT
DTSTART;TZID=UTC:20211113T100000
DTEND;TZID=UTC:20211113T140000
DTSTAMP:20260423T193534
CREATED:20210607T085733Z
LAST-MODIFIED:20210711T114727Z
UID:508-1636797600-1636812000@dev.ff-karriereberatung.de
SUMMARY:Online-Seminar: Interview Training
DESCRIPTION:Online-Seminar: Interview Training: Die Teilnehmer werden mit dem Interview-Prozess vertraut gemacht\, damit sie überzeugend im Vorstellungsgespräch auftreten und sich den Job holen können\, den sie wollen.\nDie Vorbereitung berücksichtigt sowohl die klassischen persönlichen Interviews als auch Telefon-\, Online-\, und Video-Interviews.\nAnwendbar für interne und externe Vorstellungsgespräch. \n\nBeschreibung des Interview-Prozesses\nBeschreibung der unterschiedlichen Interview-Formate\nVorbereitung der Interviews\nAuftreten und Gesprächsführung im Interview\nGängige Fragen im Vorstellungsgespräch\nEigene Fragen formulieren und platzieren\nErstellen von Gesprächs- und Argumentationsleitfäden\nNachbereitung von Vorstellungsgesprächen\n\nTeilnehmerzahl: Maximal 8 Teilnehmer \nZielgruppe: Fachkräfte\, Führungskräfte\, Experten\, Wiedereinsteiger\, Berufsanfänger\, Quereinsteiger \nVorbereitung: Lebenslauf\, Eigene Fragen\, Schreibzeug \nVorkenntnisse: Keine notwendig
URL:https://dev.ff-karriereberatung.de/event/online-seminar-interview-training-5/
LOCATION:Online
ORGANIZER;CN="Kay%20Br%C3%B6der":MAILTO:seminare@ff-Karriereberatung.de
END:VEVENT
END:VCALENDAR